BEGIN:VCALENDAR
VERSION:2.0
PRODID:-//wp-events-plugin.com//6.6.4.4//EN
BEGIN:VEVENT
UID:263@lepetitraconteur.com
DTSTART;TZID=Africa/Abidjan:20260624T140000
DTEND;TZID=Africa/Abidjan:20260624T170000
DTSTAMP:20260423T183533Z
URL:https://www.lepetitraconteur.com/events/la-kamicyclette-et-le-trait-du
 nion-a-roquemaure-30-le-24-juin-2026/
SUMMARY:La KAMICYCLETTE et le Trait d'Union à Roquemaure (30)\, le 24 juin
  2026
DESCRIPTION:La Kamicyclette retourne une fois de plus à Roquemaure !!! Cet
 te fois c'est l'asso Le Trait d'Union qui accueillera le drôle de spectac
 le dans les jardins de la Médiathèque.
ATTACH;FMTTYPE=image/jpeg:https://www.lepetitraconteur.com/wp-content/uplo
 ads/2023/02/20220626_104344.jpg
END:VEVENT
BEGIN:VTIMEZONE
TZID:Africa/Abidjan
X-LIC-LOCATION:Africa/Abidjan
BEGIN:STANDARD
DTSTART:20250624T140000
TZOFFSETFROM:+0000
TZOFFSETTO:+0000
TZNAME:GMT
END:STANDARD
END:VTIMEZONE
END:VCALENDAR