BEGIN:VCALENDAR
VERSION:2.0
PRODID:-//wp-events-plugin.com//6.6.4.4//EN
BEGIN:VEVENT
UID:264@lepetitraconteur.com
DTSTART;TZID=Africa/Abidjan:20260704T100000
DTEND;TZID=Africa/Abidjan:20260704T120000
DTSTAMP:20260423T183928Z
URL:https://www.lepetitraconteur.com/events/la-prophetie-du-crapaud-avec-l
 a-libellule-belleville-en-beaujolais-le-4-juill-2026/
SUMMARY:La Prophétie du Crapaud avec La Libellule\, Belleville en Beaujola
 is\, le 4 juill 2026
DESCRIPTION:Une matinée rencontre et dédicaces à la librairie Libellule\
 , à Belleville en Beaujolais. L'occasion de faire découvrir aux Bellevil
 lois La Prophétie du Crapaud !
ATTACH;FMTTYPE=image/jpeg:https://www.lepetitraconteur.com/wp-content/uplo
 ads/2024/06/couv-copie-allégé.jpg
END:VEVENT
BEGIN:VTIMEZONE
TZID:Africa/Abidjan
X-LIC-LOCATION:Africa/Abidjan
BEGIN:STANDARD
DTSTART:20250704T100000
TZOFFSETFROM:+0000
TZOFFSETTO:+0000
TZNAME:GMT
END:STANDARD
END:VTIMEZONE
END:VCALENDAR